Workbook

Sheet 거래내역
A1: 한올상회 외상장부 (10월) · 견본(가상 가게)
A2: 흰 칸에 적고, 회색 칸(단가·금액)은 자동이에요. 반품은 수량을 -2처럼 적어요.
A3: 같은 날·거래처·품목·수량이 두 번 적히면 줄이 노랗게 바뀌어요. 빠뜨린 거래는 맨 아래 빈 줄에 적으면 돼요.
A4: 날짜 | B4: 거래처 | C4: 품목 | D4: 수량 | E4: 단가(자동) | F4: 금액(자동) | G4: 입금 | H4: 비고
A5: 46296 | B5: 소담국수 | C5: 볶음멸치 | D5: 2 | E5: =IF(C5="","",IFERROR(INDEX(단가표!$C$5:$C$54,MATCH(C5,단가표!$A$5:$A$54,0)),"단가표에 없음")) -> 28000 | F5: =IF(ISNUMBER(E5),D5*E5,"") -> 56000
A6: 46296 | B6: 해오름횟집 | C6: 들기름 | D6: 5 | E6: =IF(C6="","",IFERROR(INDEX(단가표!$C$5:$C$54,MATCH(C6,단가표!$A$5:$A$54,0)),"단가표에 없음")) -> 26000 | F6: =IF(ISNUMBER(E6),D6*E6,"") -> 130000
A7: 46296 | B7: 해오름횟집 | C7: 볶음멸치 | D7: 2 | E7: =IF(C7="","",IFERROR(INDEX(단가표!$C$5:$C$54,MATCH(C7,단가표!$A$5:$A$54,0)),"단가표에 없음")) -> 28000 | F7: =IF(ISNUMBER(E7),D7*E7,"") -> 56000
A8: 46297 | B8: 해오름횟집 | C8: 건표고 | D8: 1 | E8: =IF(C8="","",IFERROR(INDEX(단가표!$C$5:$C$54,MATCH(C8,단가표!$A$5:$A$54,0)),"단가표에 없음")) -> 24000 | F8: =IF(ISNUMBER(E8),D8*E8,"") -> 24000
A9: 46297 | B9: 바다식당 | C9: 황태채 | D9: 1 | E9: =IF(C9="","",IFERROR(INDEX(단가표!$C$5:$C$54,MATCH(C9,단가표!$A$5:$A$54,0)),"단가표에 없음")) -> 19000 | F9: =IF(ISNUMBER(E9),D9*E9,"") -> 19000
A10: 46297 | B10: 늘봄반찬 | C10: 건새우 | D10: 5 | E10: =IF(C10="","",IFERROR(INDEX(단가표!$C$5:$C$54,MATCH(C10,단가표!$A$5:$A$54,0)),"단가표에 없음")) -> 21000 | F10: =IF(ISNUMBER(E10),D10*E10,"") -> 105000
A11: 46298 | B11: 해오름횟집 | C11: 다시마 | D11: 1 | E11: =IF(C11="","",IFERROR(INDEX(단가표!$C$5:$C$54,MATCH(C11,단가표!$A$5:$A$54,0)),"단가표에 없음")) -> 18000 | F11: =IF(ISNUMBER(E11),D11*E11,"") -> 18000
A12: 46298 | B12: 바다식당 | C12: 북어채 | D12: 5 | E12: =IF(C12="","",IFERROR(INDEX(단가표!$C$5:$C$54,MATCH(C12,단가표!$A$5:$A$54,0)),"단가표에 없음")) -> 34000 | F12: =IF(ISNUMBER(E12),D12*E12,"") -> 170000
A13: 46300 | B13: 소담국수 | C13: 들기름 | D13: 2 | E13: =IF(C13="","",IFERROR(INDEX(단가표!$C$5:$C$54,MATCH(C13,단가표!$A$5:$A$54,0)),"단가표에 없음")) -> 26000 | F13: =IF(ISNUMBER(E13),D13*E13,"") -> 52000
A14: 46300 | B14: 정담한식 | C14: 국물멸치 | D14: 3 | E14: =IF(C14="","",IFERROR(INDEX(단가표!$C$5:$C$54,MATCH(C14,단가표!$A$5:$A$54,0)),"단가표에 없음")) -> 32000 | F14: =IF(ISNUMBER(E14),D14*E14,"") -> 96000
A15: 46300 | B15: 소담국수 | C15: 김 | D15: 5 | E15: =IF(C15="","",IFERROR(INDEX(단가표!$C$5:$C$54,MATCH(C15,단가표!$A$5:$A$54,0)),"단가표에 없음")) -> 15000 | F15: =IF(ISNUMBER(E15),D15*E15,"") -> 75000
A16: 46301 | B16: 정담한식 | C16: 건표고 | D16: 1 | E16: =IF(C16="","",IFERROR(INDEX(단가표!$C$5:$C$54,MATCH(C16,단가표!$A$5:$A$54,0)),"단가표에 없음")) -> 24000 | F16: =IF(ISNUMBER(E16),D16*E16,"") -> 24000
A17: 46301 | B17: 바다식당 | C17: 볶음멸치 | D17: 1 | E17: =IF(C17="","",IFERROR(INDEX(단가표!$C$5:$C$54,MATCH(C17,단가표!$A$5:$A$54,0)),"단가표에 없음")) -> 28000 | F17: =IF(ISNUMBER(E17),D17*E17,"") -> 28000
A18: 46301 | B18: 바다식당 | E18: =IF(C18="","",IFERROR(INDEX(단가표!$C$5:$C$54,MATCH(C18,단가표!$A$5:$A$54,0)),"단가표에 없음")) | F18: =IF(ISNUMBER(E18),D18*E18,"") | G18: 150000 | H18: 입금
A19: 46302 | B19: 바다식당 | C19: 건표고 | D19: 1 | E19: =IF(C19="","",IFERROR(INDEX(단가표!$C$5:$C$54,MATCH(C19,단가표!$A$5:$A$54,0)),"단가표에 없음")) -> 24000 | F19: =IF(ISNUMBER(E19),D19*E19,"") -> 24000
A20: 46302 | B20: 한그릇분식 | C20: 볶음멸치 | D20: 5 | E20: =IF(C20="","",IFERROR(INDEX(단가표!$C$5:$C$54,MATCH(C20,단가표!$A$5:$A$54,0)),"단가표에 없음")) -> 28000 | F20: =IF(ISNUMBER(E20),D20*E20,"") -> 140000
A21: 46303 | B21: 바다식당 | C21: 북어채 | D21: 5 | E21: =IF(C21="","",IFERROR(INDEX(단가표!$C$5:$C$54,MATCH(C21,단가표!$A$5:$A$54,0)),"단가표에 없음")) -> 34000 | F21: =IF(ISNUMBER(E21),D21*E21,"") -> 170000
A22: 46303 | B22: 바다식당 | C22: 국물멸치 | D22: 5 | E22: =IF(C22="","",IFERROR(INDEX(단가표!$C$5:$C$54,MATCH(C22,단가표!$A$5:$A$54,0)),"단가표에 없음")) -> 32000 | F22: =IF(ISNUMBER(E22),D22*E22,"") -> 160000
A23: 46303 | B23: 한그릇분식 | C23: 건새우 | D23: 3 | E23: =IF(C23="","",IFERROR(INDEX(단가표!$C$5:$C$54,MATCH(C23,단가표!$A$5:$A$54,0)),"단가표에 없음")) -> 21000 | F23: =IF(ISNUMBER(E23),D23*E23,"") -> 63000
A24: 46303 | B24: 정담한식 | E24: =IF(C24="","",IFERROR(INDEX(단가표!$C$5:$C$54,MATCH(C24,단가표!$A$5:$A$54,0)),"단가표에 없음")) | F24: =IF(ISNUMBER(E24),D24*E24,"") | G24: 200000 | H24: 입금
A25: 46304 | B25: 해오름횟집 | C25: 마른오징어 | D25: 1 | E25: =IF(C25="","",IFERROR(INDEX(단가표!$C$5:$C$54,MATCH(C25,단가표!$A$5:$A$54,0)),"단가표에 없음")) -> 52000 | F25: =IF(ISNUMBER(E25),D25*E25,"") -> 52000
A26: 46304 | B26: 정담한식 | C26: 건표고 | D26: 3 | E26: =IF(C26="","",IFERROR(INDEX(단가표!$C$5:$C$54,MATCH(C26,단가표!$A$5:$A$54,0)),"단가표에 없음")) -> 24000 | F26: =IF(ISNUMBER(E26),D26*E26,"") -> 72000
A27: 46304 | B27: 한그릇분식 | C27: 다시마 | D27: 1 | E27: =IF(C27="","",IFERROR(INDEX(단가표!$C$5:$C$54,MATCH(C27,단가표!$A$5:$A$54,0)),"단가표에 없음")) -> 18000 | F27: =IF(ISNUMBER(E27),D27*E27,"") -> 18000
A28: 46304 | B28: 해오름횟집 | C28: 건표고 | D28: 5 | E28: =IF(C28="","",IFERROR(INDEX(단가표!$C$5:$C$54,MATCH(C28,단가표!$A$5:$A$54,0)),"단가표에 없음")) -> 24000 | F28: =IF(ISNUMBER(E28),D28*E28,"") -> 120000
A29: 46305 | B29: 바다식당 | C29: 황태채 | D29: 2 | E29: =IF(C29="","",IFERROR(INDEX(단가표!$C$5:$C$54,MATCH(C29,단가표!$A$5:$A$54,0)),"단가표에 없음")) -> 19000 | F29: =IF(ISNUMBER(E29),D29*E29,"") -> 38000
A30: 46305 | B30: 소담국수 | C30: 황태채 | D30: 3 | E30: =IF(C30="","",IFERROR(INDEX(단가표!$C$5:$C$54,MATCH(C30,단가표!$A$5:$A$54,0)),"단가표에 없음")) -> 19000 | F30: =IF(ISNUMBER(E30),D30*E30,"") -> 57000
A31: 46305 | B31: 바다식당 | C31: 마른오징어 | D31: 2 | E31: =IF(C31="","",IFERROR(INDEX(단가표!$C$5:$C$54,MATCH(C31,단가표!$A$5:$A$54,0)),"단가표에 없음")) -> 52000 | F31: =IF(ISNUMBER(E31),D31*E31,"") -> 104000
A32: 46305 | B32: 소담국수 | E32: =IF(C32="","",IFERROR(INDEX(단가표!$C$5:$C$54,MATCH(C32,단가표!$A$5:$A$54,0)),"단가표에 없음")) | F32: =IF(ISNUMBER(E32),D32*E32,"") | G32: 80000 | H32: 입금
A33: 46307 | B33: 늘봄반찬 | C33: 건새우 | D33: 2 | E33: =IF(C33="","",IFERROR(INDEX(단가표!$C$5:$C$54,MATCH(C33,단가표!$A$5:$A$54,0)),"단가표에 없음")) -> 21000 | F33: =IF(ISNUMBER(E33),D33*E33,"") -> 42000
A34: 46307 | B34: 한그릇분식 | C34: 건새우 | D34: 2 | E34: =IF(C34="","",IFERROR(INDEX(단가표!$C$5:$C$54,MATCH(C34,단가표!$A$5:$A$54,0)),"단가표에 없음")) -> 21000 | F34: =IF(ISNUMBER(E34),D34*E34,"") -> 42000
A35: 46307 | B35: 한그릇분식 | C35: 마른오징어 | D35: 1 | E35: =IF(C35="","",IFERROR(INDEX(단가표!$C$5:$C$54,MATCH(C35,단가표!$A$5:$A$54,0)),"단가표에 없음")) -> 52000 | F35: =IF(ISNUMBER(E35),D35*E35,"") -> 52000
A36: 46308 | B36: 바다식당 | C36: 국물멸치 | D36: 5 | E36: =IF(C36="","",IFERROR(INDEX(단가표!$C$5:$C$54,MATCH(C36,단가표!$A$5:$A$54,0)),"단가표에 없음")) -> 32000 | F36: =IF(ISNUMBER(E36),D36*E36,"") -> 160000
A37: 46308 | B37: 정담한식 | C37: 북어채 | D37: 3 | E37: =IF(C37="","",IFERROR(INDEX(단가표!$C$5:$C$54,MATCH(C37,단가표!$A$5:$A$54,0)),"단가표에 없음")) -> 34000 | F37: =IF(ISNUMBER(E37),D37*E37,"") -> 102000
A38: 46308 | B38: 바다식당 | C38: 황태채 | D38: 1 | E38: =IF(C38="","",IFERROR(INDEX(단가표!$C$5:$C$54,MATCH(C38,단가표!$A$5:$A$54,0)),"단가표에 없음")) -> 19000 | F38: =IF(ISNUMBER(E38),D38*E38,"") -> 19000
A39: 46308 | B39: 해오름횟집 | C39: 볶음멸치 | D39: 1 | E39: =IF(C39="","",IFERROR(INDEX(단가표!$C$5:$C$54,MATCH(C39,단가표!$A$5:$A$54,0)),"단가표에 없음")) -> 28000 | F39: =IF(ISNUMBER(E39),D39*E39,"") -> 28000
A40: 46308 | B40: 해오름횟집 | E40: =IF(C40="","",IFERROR(INDEX(단가표!$C$5:$C$54,MATCH(C40,단가표!$A$5:$A$54,0)),"단가표에 없음")) | F40: =IF(ISNUMBER(E40),D40*E40,"") | G40: 300000 | H40: 입금
A41: 46309 | B41: 소담국수 | C41: 국물멸치 | D41: 3 | E41: =IF(C41="","",IFERROR(INDEX(단가표!$C$5:$C$54,MATCH(C41,단가표!$A$5:$A$54,0)),"단가표에 없음")) -> 32000 | F41: =IF(ISNUMBER(E41),D41*E41,"") -> 96000
A42: 46309 | B42: 소담국수 | C42: 김 | D42: 1 | E42: =IF(C42="","",IFERROR(INDEX(단가표!$C$5:$C$54,MATCH(C42,단가표!$A$5:$A$54,0)),"단가표에 없음")) -> 15000 | F42: =IF(ISNUMBER(E42),D42*E42,"") -> 15000
A43: 46309 | B43: 정담한식 | C43: 볶음멸치 | D43: 1 | E43: =IF(C43="","",IFERROR(INDEX(단가표!$C$5:$C$54,MATCH(C43,단가표!$A$5:$A$54,0)),"단가표에 없음")) -> 28000 | F43: =IF(ISNUMBER(E43),D43*E43,"") -> 28000
A44: 46310 | B44: 늘봄반찬 | C44: 다시마 | D44: 5 | E44: =IF(C44="","",IFERROR(INDEX(단가표!$C$5:$C$54,MATCH(C44,단가표!$A$5:$A$54,0)),"단가표에 없음")) -> 18000 | F44: =IF(ISNUMBER(E44),D44*E44,"") -> 90000
A45: 46310 | B45: 해오름횟집 | C45: 북어채 | D45: 2 | E45: =IF(C45="","",IFERROR(INDEX(단가표!$C$5:$C$54,MATCH(C45,단가표!$A$5:$A$54,0)),"단가표에 없음")) -> 34000 | F45: =IF(ISNUMBER(E45),D45*E45,"") -> 68000
A46: 46310 | B46: 한그릇분식 | C46: 북어채 | D46: 3 | E46: =IF(C46="","",IFERROR(INDEX(단가표!$C$5:$C$54,MATCH(C46,단가표!$A$5:$A$54,0)),"단가표에 없음")) -> 34000 | F46: =IF(ISNUMBER(E46),D46*E46,"") -> 102000
A47: 46310 | B47: 늘봄반찬 | E47: =IF(C47="","",IFERROR(INDEX(단가표!$C$5:$C$54,MATCH(C47,단가표!$A$5:$A$54,0)),"단가표에 없음")) | F47: =IF(ISNUMBER(E47),D47*E47,"") | G47: 100000 | H47: 입금
E48: =IF(C48="","",IFERROR(INDEX(단가표!$C$5:$C$54,MATCH(C48,단가표!$A$5:$A$54,0)),"단가표에 없음")) | F48: =IF(ISNUMBER(E48),D48*E48,"")
E49: =IF(C49="","",IFERROR(INDEX(단가표!$C$5:$C$54,MATCH(C49,단가표!$A$5:$A$54,0)),"단가표에 없음")) | F49: =IF(ISNUMBER(E49),D49*E49,"")
E50: =IF(C50="","",IFERROR(INDEX(단가표!$C$5:$C$54,MATCH(C50,단가표!$A$5:$A$54,0)),"단가표에 없음")) | F50: =IF(ISNUMBER(E50),D50*E50,"")
E51: =IF(C51="","",IFERROR(INDEX(단가표!$C$5:$C$54,MATCH(C51,단가표!$A$5:$A$54,0)),"단가표에 없음")) | F51: =IF(ISNUMBER(E51),D51*E51,"")
E52: =IF(C52="","",IFERROR(INDEX(단가표!$C$5:$C$54,MATCH(C52,단가표!$A$5:$A$54,0)),"단가표에 없음")) | F52: =IF(ISNUMBER(E52),D52*E52,"")
E53: =IF(C53="","",IFERROR(INDEX(단가표!$C$5:$C$54,MATCH(C53,단가표!$A$5:$A$54,0)),"단가표에 없음")) | F53: =IF(ISNUMBER(E53),D53*E53,"")
E54: =IF(C54="","",IFERROR(INDEX(단가표!$C$5:$C$54,MATCH(C54,단가표!$A$5:$A$54,0)),"단가표에 없음")) | F54: =IF(ISNUMBER(E54),D54*E54,"")
E55: =IF(C55="","",IFERROR(INDEX(단가표!$C$5:$C$54,MATCH(C55,단가표!$A$5:$A$54,0)),"단가표에 없음")) | F55: =IF(ISNUMBER(E55),D55*E55,"")
E56: =IF(C56="","",IFERROR(INDEX(단가표!$C$5:$C$54,MATCH(C56,단가표!$A$5:$A$54,0)),"단가표에 없음")) | F56: =IF(ISNUMBER(E56),D56*E56,"")
E57: =IF(C57="","",IFERROR(INDEX(단가표!$C$5:$C$54,MATCH(C57,단가표!$A$5:$A$54,0)),"단가표에 없음")) | F57: =IF(ISNUMBER(E57),D57*E57,"")
E58: =IF(C58="","",IFERROR(INDEX(단가표!$C$5:$C$54,MATCH(C58,단가표!$A$5:$A$54,0)),"단가표에 없음")) | F58: =IF(ISNUMBER(E58),D58*E58,"")
E59: =IF(C59="","",IFERROR(INDEX(단가표!$C$5:$C$54,MATCH(C59,단가표!$A$5:$A$54,0)),"단가표에 없음")) | F59: =IF(ISNUMBER(E59),D59*E59,"")
... E504: =IF(C504="","",IFERROR(INDEX(단가표!$C$5:$C$54,MATCH(C504,단가표!$A$5:$A$54,0)),"단가표에 없음")) | F504: =IF(ISNUMBER(E504),D504*E504,"")

Sheet 거래처별
A1: 거래처별 외상
A2: 거래내역에 적으면 자동으로 바뀌어요. '지난달 이월'(흰 칸)에는 이 파일을 시작하기 전에 남아 있던 외상을 적어요.
A3: 합계 | B3: =SUM(B5:B34) -> 0 | C3: =SUM(C5:C34) -> 38 | D3: =SUM(거래내역!$F$5:$F$504) -> 2715000 | E3: =SUM(거래내역!$G$5:$G$504) -> 830000 | F3: =B3+D3-E3 -> 1885000 | H3: =IF(OR(SUM(D5:D34)<>D3,SUM(E5:E34)<>E3),"거래처 목록에 없는 이름이 거래내역에 있어요",IF(COUNTIF(거래내역!$E$5:$E$504,"단가표에 없음")>0,"단가표에 없는 품목이 있어 합계에서 빠진 줄이 있어요",""))
A4: 거래처 | B4: 지난달 이월 | C4: 거래 건수 | D4: 거래 금액 | E4: 입금 | F4: 외상 잔액 | G4: 건당 평균
A5: =IF(단가표!F5="","",단가표!F5) -> 바다식당 | C5: =IF(A5="","",SUMPRODUCT((거래내역!$B$5:$B$504=A5)*ISNUMBER(거래내역!$F$5:$F$504)*(거래내역!$D$5:$D$504>0))) -> 10 | D5: =IF(A5="","",SUMIFS(거래내역!$F$5:$F$504,거래내역!$B$5:$B$504,A5)) -> 892000 | E5: =IF(A5="","",SUMIFS(거래내역!$G$5:$G$504,거래내역!$B$5:$B$504,A5)) -> 150000 | F5: =IF(A5="","",N(B5)+D5-E5) -> 742000 | G5: =IF(OR(A5="",N(C5)=0),"",ROUND(D5/C5,0)) -> 89200
A6: =IF(단가표!F6="","",단가표!F6) -> 정담한식 | C6: =IF(A6="","",SUMPRODUCT((거래내역!$B$5:$B$504=A6)*ISNUMBER(거래내역!$F$5:$F$504)*(거래내역!$D$5:$D$504>0))) -> 5 | D6: =IF(A6="","",SUMIFS(거래내역!$F$5:$F$504,거래내역!$B$5:$B$504,A6)) -> 322000 | E6: =IF(A6="","",SUMIFS(거래내역!$G$5:$G$504,거래내역!$B$5:$B$504,A6)) -> 200000 | F6: =IF(A6="","",N(B6)+D6-E6) -> 122000 | G6: =IF(OR(A6="",N(C6)=0),"",ROUND(D6/C6,0)) -> 64400
A7: =IF(단가표!F7="","",단가표!F7) -> 소담국수 | C7: =IF(A7="","",SUMPRODUCT((거래내역!$B$5:$B$504=A7)*ISNUMBER(거래내역!$F$5:$F$504)*(거래내역!$D$5:$D$504>0))) -> 6 | D7: =IF(A7="","",SUMIFS(거래내역!$F$5:$F$504,거래내역!$B$5:$B$504,A7)) -> 351000 | E7: =IF(A7="","",SUMIFS(거래내역!$G$5:$G$504,거래내역!$B$5:$B$504,A7)) -> 80000 | F7: =IF(A7="","",N(B7)+D7-E7) -> 271000 | G7: =IF(OR(A7="",N(C7)=0),"",ROUND(D7/C7,0)) -> 58500
A8: =IF(단가표!F8="","",단가표!F8) -> 한그릇분식 | C8: =IF(A8="","",SUMPRODUCT((거래내역!$B$5:$B$504=A8)*ISNUMBER(거래내역!$F$5:$F$504)*(거래내역!$D$5:$D$504>0))) -> 6 | D8: =IF(A8="","",SUMIFS(거래내역!$F$5:$F$504,거래내역!$B$5:$B$504,A8)) -> 417000 | E8: =IF(A8="","",SUMIFS(거래내역!$G$5:$G$504,거래내역!$B$5:$B$504,A8)) -> 0 | F8: =IF(A8="","",N(B8)+D8-E8) -> 417000 | G8: =IF(OR(A8="",N(C8)=0),"",ROUND(D8/C8,0)) -> 69500
A9: =IF(단가표!F9="","",단가표!F9) -> 해오름횟집 | C9: =IF(A9="","",SUMPRODUCT((거래내역!$B$5:$B$504=A9)*ISNUMBER(거래내역!$F$5:$F$504)*(거래내역!$D$5:$D$504>0))) -> 8 | D9: =IF(A9="","",SUMIFS(거래내역!$F$5:$F$504,거래내역!$B$5:$B$504,A9)) -> 496000 | E9: =IF(A9="","",SUMIFS(거래내역!$G$5:$G$504,거래내역!$B$5:$B$504,A9)) -> 300000 | F9: =IF(A9="","",N(B9)+D9-E9) -> 196000 | G9: =IF(OR(A9="",N(C9)=0),"",ROUND(D9/C9,0)) -> 62000
A10: =IF(단가표!F10="","",단가표!F10) -> 늘봄반찬 | C10: =IF(A10="","",SUMPRODUCT((거래내역!$B$5:$B$504=A10)*ISNUMBER(거래내역!$F$5:$F$504)*(거래내역!$D$5:$D$504>0))) -> 3 | D10: =IF(A10="","",SUMIFS(거래내역!$F$5:$F$504,거래내역!$B$5:$B$504,A10)) -> 237000 | E10: =IF(A10="","",SUMIFS(거래내역!$G$5:$G$504,거래내역!$B$5:$B$504,A10)) -> 100000 | F10: =IF(A10="","",N(B10)+D10-E10) -> 137000 | G10: =IF(OR(A10="",N(C10)=0),"",ROUND(D10/C10,0)) -> 79000
A11: =IF(단가표!F11="","",단가표!F11) | C11: =IF(A11="","",SUMPRODUCT((거래내역!$B$5:$B$504=A11)*ISNUMBER(거래내역!$F$5:$F$504)*(거래내역!$D$5:$D$504>0))) | D11: =IF(A11="","",SUMIFS(거래내역!$F$5:$F$504,거래내역!$B$5:$B$504,A11)) | E11: =IF(A11="","",SUMIFS(거래내역!$G$5:$G$504,거래내역!$B$5:$B$504,A11)) | F11: =IF(A11="","",N(B11)+D11-E11) | G11: =IF(OR(A11="",N(C11)=0),"",ROUND(D11/C11,0))
A12: =IF(단가표!F12="","",단가표!F12) | C12: =IF(A12="","",SUMPRODUCT((거래내역!$B$5:$B$504=A12)*ISNUMBER(거래내역!$F$5:$F$504)*(거래내역!$D$5:$D$504>0))) | D12: =IF(A12="","",SUMIFS(거래내역!$F$5:$F$504,거래내역!$B$5:$B$504,A12)) | E12: =IF(A12="","",SUMIFS(거래내역!$G$5:$G$504,거래내역!$B$5:$B$504,A12)) | F12: =IF(A12="","",N(B12)+D12-E12) | G12: =IF(OR(A12="",N(C12)=0),"",ROUND(D12/C12,0))
A13: =IF(단가표!F13="","",단가표!F13) | C13: =IF(A13="","",SUMPRODUCT((거래내역!$B$5:$B$504=A13)*ISNUMBER(거래내역!$F$5:$F$504)*(거래내역!$D$5:$D$504>0))) | D13: =IF(A13="","",SUMIFS(거래내역!$F$5:$F$504,거래내역!$B$5:$B$504,A13)) | E13: =IF(A13="","",SUMIFS(거래내역!$G$5:$G$504,거래내역!$B$5:$B$504,A13)) | F13: =IF(A13="","",N(B13)+D13-E13) | G13: =IF(OR(A13="",N(C13)=0),"",ROUND(D13/C13,0))
A14: =IF(단가표!F14="","",단가표!F14) | C14: =IF(A14="","",SUMPRODUCT((거래내역!$B$5:$B$504=A14)*ISNUMBER(거래내역!$F$5:$F$504)*(거래내역!$D$5:$D$504>0))) | D14: =IF(A14="","",SUMIFS(거래내역!$F$5:$F$504,거래내역!$B$5:$B$504,A14)) | E14: =IF(A14="","",SUMIFS(거래내역!$G$5:$G$504,거래내역!$B$5:$B$504,A14)) | F14: =IF(A14="","",N(B14)+D14-E14) | G14: =IF(OR(A14="",N(C14)=0),"",ROUND(D14/C14,0))
A15: =IF(단가표!F15="","",단가표!F15) | C15: =IF(A15="","",SUMPRODUCT((거래내역!$B$5:$B$504=A15)*ISNUMBER(거래내역!$F$5:$F$504)*(거래내역!$D$5:$D$504>0))) | D15: =IF(A15="","",SUMIFS(거래내역!$F$5:$F$504,거래내역!$B$5:$B$504,A15)) | E15: =IF(A15="","",SUMIFS(거래내역!$G$5:$G$504,거래내역!$B$5:$B$504,A15)) | F15: =IF(A15="","",N(B15)+D15-E15) | G15: =IF(OR(A15="",N(C15)=0),"",ROUND(D15/C15,0))
A16: =IF(단가표!F16="","",단가표!F16) | C16: =IF(A16="","",SUMPRODUCT((거래내역!$B$5:$B$504=A16)*ISNUMBER(거래내역!$F$5:$F$504)*(거래내역!$D$5:$D$504>0))) | D16: =IF(A16="","",SUMIFS(거래내역!$F$5:$F$504,거래내역!$B$5:$B$504,A16)) | E16: =IF(A16="","",SUMIFS(거래내역!$G$5:$G$504,거래내역!$B$5:$B$504,A16)) | F16: =IF(A16="","",N(B16)+D16-E16) | G16: =IF(OR(A16="",N(C16)=0),"",ROUND(D16/C16,0))
... A34: =IF(단가표!F34="","",단가표!F34) | C34: =IF(A34="","",SUMPRODUCT((거래내역!$B$5:$B$504=A34)*ISNUMBER(거래내역!$F$5:$F$504)*(거래내역!$D$5:$D$504>0))) | D34: =IF(A34="","",SUMIFS(거래내역!$F$5:$F$504,거래내역!$B$5:$B$504,A34)) | E34: =IF(A34="","",SUMIFS(거래내역!$G$5:$G$504,거래내역!$B$5:$B$504,A34)) | F34: =IF(A34="","",N(B34)+D34-E34) | G34: =IF(OR(A34="",N(C34)=0),"",ROUND(D34/C34,0))

Sheet 단가표
A1: 단가표 · 거래처 목록
A2: 여기서 가격을 바꾸면 거래내역의 단가가 따라 바뀌어요. 같은 품목은 한 줄만 둬요. 품목은 50개, 거래처는 30곳까지 적을 수 있어요.
A4: 품목 | B4: 단위 | C4: 단가 | F4: 거래처
A5: 국물멸치 | B5: 1.5kg | C5: 32000 | F5: 바다식당
A6: 볶음멸치 | B6: 1kg | C6: 28000 | F6: 정담한식
A7: 다시마 | B7: 1kg | C7: 18000 | F7: 소담국수
A8: 건새우 | B8: 500g | C8: 21000 | F8: 한그릇분식
A9: 김 | B9: 100장 | C9: 15000 | F9: 해오름횟집
A10: 북어채 | B10: 1kg | C10: 34000 | F10: 늘봄반찬
A11: 마른오징어 | B11: 10미 | C11: 52000
A12: 황태채 | B12: 500g | C12: 19000
A13: 건표고 | B13: 500g | C13: 24000
A14: 들기름 | B14: 1L | C14: 26000
