Workbook

Sheet 거래내역
A1: 한올상회 외상장부 (10월) · 견본(가상 가게)
A3: 날짜 | B3: 거래처 | C3: 품목 | D3: 수량 | E3: 단가 | F3: 금액 | G3: 입금 | H3: 비고
A5: 46296 | B5: 소담국수 | C5: 볶음멸치 | D5: 2 | E5: =VLOOKUP(C5,단가표!A:C,3) -> 28000 | F5: =D5*E5 -> 56000
A6: 46296 | B6: 소담국수 | C6: 볶음멸치 | D6: 2 | E6: =VLOOKUP(C6,단가표!A:C,3) -> 28000 | F6: =D6*E6 -> 56000
A7: 10.1 | B7: 해오름횟집 | C7: 들기름 | D7: 5 | E7: =VLOOKUP(C7,단가표!A:C,3) -> 26000 | F7: =D7*E7 -> 130000
A8: 10월1일 | B8: 해오름횟집 | C8: 볶음멸치 | D8: 2 | E8: =VLOOKUP(C8,단가표!A:C,3) -> 28000 | F8: =D8*E8 -> 56000
A9: 2026.10.02 | B9: 해오름횟집 | C9: 건표고 | D9: 1 | E9: =VLOOKUP(C9,단가표!A:C,3) -> #N/A | F9: =D9*E9 -> #N/A
A10: 46297 | B10: (주)바다식당 | C10: 황태채 | D10: 1 | E10: =VLOOKUP(C10,단가표!A:C,3) -> 17000 | F10: =D10*E10 -> 17000
A11: 10/2 | B11: 늘봄반찬 | C11: 건새우 | D11: 5 | E11: =VLOOKUP(C11,단가표!A:C,3) -> #N/A | F11: =D11*E11 -> #N/A
A12: 46298 | B12: 해오름횟집 | C12: 다시마 | D12: 1 | E12: =VLOOKUP(C12,단가표!A:C,3) -> #N/A | F12: 18,000원
A13: 46298 | B13: 바다 식당 | C13: 북어채 | D13: 5 | E13: =VLOOKUP(C13,단가표!A:C,3) -> 17000 | F13: =D13*E13 -> 85000
A14: 46300 | B14: 소담국수집 | C14: 들기름 | D14: 2 | E14: =VLOOKUP(C14,단가표!A:C,3) -> 26000 | F14: =D14*E14 -> 52000
A15: 46300 | B15: 정담 한식 | C15: 국물멸치 | D15: 3 | E15: =VLOOKUP(C15,단가표!A:C,3) -> #N/A | F15: =D15*E15 -> #N/A
A16: 46300 | B16: 소담국수 | C16: 김 | D16: 5 | E16: =VLOOKUP(C16,단가표!A:C,3) -> #N/A | F16: 75,000원
A17: 46301 | B17: 정담한식 | C17: 건표고 | D17: 1 | E17: =VLOOKUP(C17,단가표!A:C,3) -> #N/A | F17: =D17*E17 -> #N/A
A18: 46301 | B18: 정담한식 | C18: 건표고 | D18: 1 | E18: =VLOOKUP(C18,단가표!A:C,3) -> #N/A | F18: =D18*E18 -> #N/A
A19: 46301 | B19: 바다식당 | C19: 볶음멸치 | D19: 1 | E19: =VLOOKUP(C19,단가표!A:C,3) -> 28000 | F19: 28,000원
A20: 46301 | B20: 바다식당 | G20: 150000 | H20: 입금
A21: 46302 | B21: 바다식당 | C21: 건표고버섯 | D21: 1 | E21: =VLOOKUP(C21,단가표!A:C,3) -> #N/A | F21: =D21*E21 -> #N/A
A22: 46302 | B22: 한그릇분식 | C22: 볶음멸치 | D22: 5 | E22: =VLOOKUP(C22,단가표!A:C,3) -> 28000 | F22: 50000
A23: 46303 | B23: 바다식당 | C23: 북어채 | D23: 5 | E23: =VLOOKUP(C23,단가표!A:C,3) -> 17000 | F23: =D23*E23 -> 85000
A24: 46303 | B24: 바다식당 | C24: 국물멸치 | D24: 5 | E24: =VLOOKUP(C24,단가표!A:C,3) -> #N/A | F24: =D24*E24 -> #N/A
A25: 46303 | B25: 한그릇분식 | C25: 건새우 | D25: 3 | E25: =VLOOKUP(C25,단가표!A:C,3) -> #N/A | F25: =D25*E25 -> #N/A
A26: 46303 | B26: 정담한식 | G26: 200000 | H26: 입금
A27: 46304 | B27: 해오름횟집 | C27: 마른오징어 | D27: 1 | E27: =VLOOKUP(C27,단가표!A:C,3) -> 52000 | F27: =D27*E27 -> 52000
A28: 46304 | B28: 정담한식 | C28: 건표고 | D28: 3 | E28: =VLOOKUP(C28,단가표!A:C,3) -> #N/A | F28: =D28*E28 -> #N/A
A29: 46304 | B29: 한그릇분식 | C29: 다시마 | D29: 1 | E29: =VLOOKUP(C29,단가표!A:C,3) -> #N/A | F29: =D29*E29 -> #N/A
A30: 46304 | B30: 해오름횟집 | C30: 건표고 | D30: 5 | E30: =VLOOKUP(C30,단가표!A:C,3) -> #N/A | F30: =D30*E30 -> #N/A
A31: 46305 | B31: 바다식당 | C31: 황태채 | D31: 2 | E31: =VLOOKUP(C31,단가표!A:C,3) -> 17000 | F31: =D31*E31 -> 34000
A32: 46305 | B32: 바다식당 | C32: 황태채 | D32: 2 | E32: =VLOOKUP(C32,단가표!A:C,3) -> 17000 | F32: =D32*E32 -> 34000
A33: 46305 | B33: 소담국수 | C33: 황태채 | D33: 3 | E33: =VLOOKUP(C33,단가표!A:C,3) -> 17000 | F33: =D33*E33 -> 51000
A34: 46305 | B34: 바다식당 | C34: 마른오징어 | D34: 2 | E34: =VLOOKUP(C34,단가표!A:C,3) -> 52000 | F34: =D34*E34 -> 104000
A35: 46305 | B35: 소담국수 | G35: 80000 | H35: 입금
A36: 46307 | B36: 늘봄반찬 | C36: 건새우 | D36: 2 | E36: =VLOOKUP(C36,단가표!A:C,3) -> #N/A | F36: =D36*E36 -> #N/A
A37: 46307 | B37: 한그릇분식 | C37: 건새우 | D37: 2 | E37: =VLOOKUP(C37,단가표!A:C,3) -> #N/A | F37: =D37*E37 -> #N/A
A38: 46307 | B38: 한그릇분식 | C38: 마른오징어 | D38: 1 | E38: =VLOOKUP(C38,단가표!A:C,3) -> 52000 | F38: =D38*E38 -> 52000
A39: 46308 | B39: 바다식당 | C39: 국물멸치 | D39: 5 | E39: =VLOOKUP(C39,단가표!A:C,3) -> #N/A | F39: =D39*E39 -> #N/A
A40: 46308 | B40: 정담한식 | C40: 북어채 | D40: 3 | E40: =VLOOKUP(C40,단가표!A:C,3) -> 17000 | F40: =D40*E40 -> 51000
A41: 46308 | B41: 바다식당 | C41: 황태채 | D41: 1 | E41: =VLOOKUP(C41,단가표!A:C,3) -> 17000 | F41: =D41*E41 -> 17000
A42: 46308 | B42: 해오름횟집 | C42: 볶음멸치 | D42: 1 | E42: =VLOOKUP(C42,단가표!A:C,3) -> 28000 | F42: =D42*E42 -> 28000
...

Sheet 거래처별
A1: 거래처별 합계
A3: 거래처 | B3: 거래금액 | C3: 입금 | D3: 외상 | E3: 건수 | F3: 평균
A4: 바다식당 | B4: =SUMIF(거래내역!B5:B40,A4,거래내역!F5:F44) -> #N/A | C4: =SUMIF(거래내역!B5:B40,A4,거래내역!G5:G40) -> 150000 | D4: =B4-C4 -> #N/A | E4: =COUNTIF(거래내역!B5:B40,A4) -> 9 | F4: =B4/E4 -> #N/A
A5: 정담한식 | B5: =SUMIF(거래내역!B5:B40,A5,거래내역!F5:F44) -> #N/A | C5: =SUMIF(거래내역!B5:B40,A5,거래내역!G5:G40) -> 200000 | D5: =B5-C5 -> #N/A | E5: =COUNTIF(거래내역!B5:B40,A5) -> 5 | F5: =B5/E5 -> #N/A
A6: 소담국수 | B6: =SUMIF(거래내역!B5:B40,A6,거래내역!F5:F44) -> 163000 | C6: =SUMIF(거래내역!B5:B40,A6,거래내역!G5:G40) -> 80000 | D6: =B6-C6 -> 83000 | E6: =COUNTIF(거래내역!B5:B40,A6) -> 5 | F6: =B6/E6 -> 32600
A7: 한그릇분식 | B7: =SUMIF(거래내역!B5:B40,A7,거래내역!F5:F44) -> #N/A | C7: =SUMIF(거래내역!B5:B40,A7,거래내역!G5:G40) -> 0 | D7: =B7-C7 -> #N/A | E7: =COUNTIF(거래내역!B5:B40,A7) -> 5 | F7: =B7/E7 -> #N/A
A8: 해오름횟집 | B8: =SUMIF(거래내역!B5:B40,A8,거래내역!F5:F44) -> #N/A | C8: =SUMIF(거래내역!B5:B40,A8,거래내역!G5:G40) -> 0 | D8: =B8-C8 -> #N/A | E8: =COUNTIF(거래내역!B5:B40,A8) -> 6 | F8: =B8/E8 -> #N/A
A9: 늘봄반찬 | B9: 412000 | C9: =SUMIF(거래내역!B5:B40,A9,거래내역!G5:G40) -> 0 | D9: =B9-C9 -> 412000 | E9: =COUNTIF(거래내역!B5:B40,A9) -> 2 | F9: =B9/E9 -> 206000
A11: 합계 | B11: =SUM(B4:B9) -> #N/A

Sheet 단가표
A1: 품목 | B1: 단위 | C1: 단가
A2: 들기름 | B2: 1L | C2: 26000
A3: 마른오징어 | B3: 10미 | C3: 52000
A4: 황태채 | B4: 500g | C4: 19000
A5: 건새우 | B5: 500g | C5: 21000
A6: 북어채 | B6: 1kg | C6: 34000
A7: 국물멸치 | B7: 1.5kg | C7: 32000
A8: 볶음멸치 | B8: 1kg | C8: 28000
A9: 김 | B9: 100장 | C9: 15000
A10: 건표고 | B10: 500g | C10: 24000
A11: 다시마 | B11: 1kg | C11: 18000
A12: 다시마 | B12: 1kg | C12: 17000
